BEGIN:VCALENDAR
VERSION:2.0
PRODID:-//192.185.152.201//NONSGML kigkonsult.se iCalcreator 2.26.9//
CALSCALE:GREGORIAN
METHOD:PUBLISH
X-WR-CALNAME:Cooroy Memorial Hall
X-WR-CALDESC:
X-FROM-URL:https://cooroyhall.org.au
X-WR-TIMEZONE:Australia/Brisbane
BEGIN:VTIMEZONE
TZID:Australia/Brisbane
X-LIC-LOCATION:Australia/Brisbane
BEGIN:STANDARD
DTSTART:19920301T030000
TZOFFSETFROM:+1100
TZOFFSETTO:+1000
TZNAME:AEST
END:STANDARD
END:VTIMEZONE
BEGIN:VEVENT
UID:ai1ec-1325@cooroyhall.org.au
DTSTAMP:20210228T021237Z
CATEGORIES:
CONTACT:
DESCRIPTION:<div id='et-boc' class='et-boc'>\n			\n		<div class='et-l et-l--post
 '>\n			<div class='et_builder_inner_content et_pb_gutters1'>\n		\n		</div><!-- .e
 t_builder_inner_content -->\n	</div><!-- .et-l -->\n	\n			\n		</div><!-- #et-boc 
 -->
DTSTART;TZID=Australia/Brisbane:20210128T090000
DTEND;TZID=Australia/Brisbane:20210128T100000
EXDATE;TZID=Australia/Brisbane:20210506T090000
EXDATE;TZID=Australia/Brisbane:20210909T090000
EXDATE;TZID=Australia/Brisbane:20210916T090000
RRULE:FREQ=WEEKLY;UNTIL=20211223T235959Z;BYDAY=TH;WKST=MO
SEQUENCE:0
SUMMARY:Zumba Fitness Party 2021
URL:https://cooroyhall.org.au/index.php/event/zumba-fitness-party-2021/
X-COST-TYPE:free
END:VEVENT
END:VCALENDAR
