BEGIN:VCALENDAR
VERSION:2.0
PRODID:-//192.185.152.201//NONSGML kigkonsult.se iCalcreator 2.26.9//
CALSCALE:GREGORIAN
METHOD:PUBLISH
X-WR-CALNAME:Cooroy Memorial Hall
X-WR-CALDESC:
X-FROM-URL:https://cooroyhall.org.au
X-WR-TIMEZONE:Australia/Brisbane
BEGIN:VTIMEZONE
TZID:Australia/Brisbane
X-LIC-LOCATION:Australia/Brisbane
BEGIN:STANDARD
DTSTART:19920301T030000
TZOFFSETFROM:+1100
TZOFFSETTO:+1000
TZNAME:AEST
END:STANDARD
END:VTIMEZONE
BEGIN:VEVENT
UID:ai1ec-1339@cooroyhall.org.au
DTSTAMP:20210228T021102Z
CATEGORIES:
CONTACT:
DESCRIPTION:<div id='et-boc' class='et-boc'>\n			\n		<div class='et-l et-l--post
 '>\n			<div class='et_builder_inner_content et_pb_gutters1'>\n		\n		</div><!-- .e
 t_builder_inner_content -->\n	</div><!-- .et-l -->\n	\n			\n		</div><!-- #et-boc 
 -->
DTSTART;TZID=Australia/Brisbane:20210127T150000
DTEND;TZID=Australia/Brisbane:20210127T163000
EXDATE;TZID=Australia/Brisbane:20210407T150000
EXDATE;TZID=Australia/Brisbane:20210414T150000
EXDATE;TZID=Australia/Brisbane:20210505T150000
EXDATE;TZID=Australia/Brisbane:20210630T150000
EXDATE;TZID=Australia/Brisbane:20210707T150000
EXDATE;TZID=Australia/Brisbane:20210915T150000
EXDATE;TZID=Australia/Brisbane:20210922T150000
EXDATE;TZID=Australia/Brisbane:20210929T150000
EXDATE;TZID=Australia/Brisbane:20211215T150000
RRULE:FREQ=WEEKLY;UNTIL=20211215T235959Z;BYDAY=WE;WKST=MO
SEQUENCE:0
SUMMARY:Soul in Motion 2021 – Dance Class
URL:https://cooroyhall.org.au/index.php/event/soul-in-motion-2021-dance-cla
 ss/
X-COST-TYPE:free
END:VEVENT
END:VCALENDAR
